BEGIN:VCALENDAR
VERSION:2.0
PRODID:-//Akti - ECPv6.15.20//NONSGML v1.0//EN
CALSCALE:GREGORIAN
METHOD:PUBLISH
X-WR-CALNAME:Akti
X-ORIGINAL-URL:https://akti.ch
X-WR-CALDESC:Events for Akti
REFRESH-INTERVAL;VALUE=DURATION:PT1H
X-Robots-Tag:noindex
X-PUBLISHED-TTL:PT1H
BEGIN:VTIMEZONE
TZID:Europe/Zurich
BEGIN:DAYLIGHT
TZOFFSETFROM:+0100
TZOFFSETTO:+0200
TZNAME:CEST
DTSTART:20220327T010000
END:DAYLIGHT
BEGIN:STANDARD
TZOFFSETFROM:+0200
TZOFFSETTO:+0100
TZNAME:CET
DTSTART:20221030T010000
END:STANDARD
BEGIN:DAYLIGHT
TZOFFSETFROM:+0100
TZOFFSETTO:+0200
TZNAME:CEST
DTSTART:20230326T010000
END:DAYLIGHT
BEGIN:STANDARD
TZOFFSETFROM:+0200
TZOFFSETTO:+0100
TZNAME:CET
DTSTART:20231029T010000
END:STANDARD
BEGIN:DAYLIGHT
TZOFFSETFROM:+0100
TZOFFSETTO:+0200
TZNAME:CEST
DTSTART:20240331T010000
END:DAYLIGHT
BEGIN:STANDARD
TZOFFSETFROM:+0200
TZOFFSETTO:+0100
TZNAME:CET
DTSTART:20241027T010000
END:STANDARD
END:VTIMEZONE
BEGIN:VEVENT
DTSTART;TZID=Europe/Zurich:20231104T180000
DTEND;TZID=Europe/Zurich:20231105T010000
DTSTAMP:20260420T235537
CREATED:20230819T124025Z
LAST-MODIFIED:20231031T220508Z
UID:2139-1699120800-1699146000@akti.ch
SUMMARY:Πολυπολiτισμική Γιορτή της Gland 2023
DESCRIPTION:Το Σάββατο 4 Νοεμβρίου 2023\, η Ακτή θα συμμετάσχει για πρώτη φορά στη Fête Multiculturelle που θα πραγματοποιηθεί στη Salle Communale της Gland! \nΑπό τις 18:00 και μετά\, θα μας βρείτε στο σταντ ελληνικών φαγητών\, δίπλα στα σταντ με κουζίνες άλλων χωρών/περιοχών (Ελβετία\, Ινδία\, χώρες του Μαγκρέμπ). \nΕπίσης\, στις 21:00\, το χορευτικό του συλλόγου μας θα παρουσιάσει ένα σύντομο (30′) πρόγραμμα ελληνικών χορών\, συνοδεία live μουσικής από το συγκρότημα O Sakaflias! Το πλήρες πρόγραμμα της βραδιάς βρίσκεται εδώ. \nTο μενού του σταντ της Ακτής γι’αυτή τη γιορτή θα είναι το παρακάτω:\n \nΘα χαρούμε πολύ να σας συναντήσουμε σε αυτήν την ιδιαίτερη περίσταση!
URL:https://akti.ch/event/fete-multiculturelle-sti-gland
LOCATION:Salle Communale de Gland\, Grand-Rue 38\, Gland\, Vaud\, 1196\, Switzerland
CATEGORIES:Εκδηλώσεις Ακτής
ATTACH;FMTTYPE=image/jpeg:https://akti.ch/wp-content/uploads/2023/08/csm_FETEMULTICULTURELLE_2023_RS-1920x1080-101023_669ad315d5.jpg
END:VEVENT
BEGIN:VEVENT
DTSTART;TZID=Europe/Zurich:20231112T163000
DTEND;TZID=Europe/Zurich:20231112T183000
DTSTAMP:20260420T235537
CREATED:20230816T211731Z
LAST-MODIFIED:20230916T205135Z
UID:2104-1699806600-1699813800@akti.ch
SUMMARY:Μάθημα Παραδοσιακών Χορών
DESCRIPTION:Περισσότερες πληροφορίες: https://akti.ch/archives/860
URL:https://akti.ch/event/mathima-paradosiakon-choron-13
LOCATION:Maison de Quartier de la Redoute\, Chemin de la Redoute 12\, Nyon\, 1260\, Switzerland
CATEGORIES:Εκδηλώσεις Ακτής
ATTACH;FMTTYPE=image/png:https://akti.ch/wp-content/uploads/2022/01/danses-grecques-2.png
END:VEVENT
BEGIN:VEVENT
DTSTART;TZID=Europe/Zurich:20231118T170000
DTEND;TZID=Europe/Zurich:20231118T210000
DTSTAMP:20260420T235537
CREATED:20230819T125248Z
LAST-MODIFIED:20231105T200135Z
UID:2145-1700326800-1700341200@akti.ch
SUMMARY:Προβολή Ντοκιμαντέρ "Ο Καραγκιοζοπαίκτης της Νιόν"
DESCRIPTION:Με μεγάλη χαρά σας προσκαλούμε στην προβολή του ντοκιμαντέρ « Ο Καραγκιοζοπαίκτης της Νιόν »\n(Ιρίνα Μπόικο\, Ελλάδα\, 2022\, 74′\, με γαλλικούς υπότιτλους) \nΕίσοδος δωρεάν\, θα ακολουθήσει απεριτίφ μετά την προβολή\nΠροτεινόμενη ηλικία : 9 ετών και άνω\nΠαρουσία του πρωταγωνιστή Γιώργου Λατσού και της σκηνοθέτιδας Ιρίνα Μπόικο\nΜε την υποστήριξη της πολής της Nyon \nΜπορείτε να δείτε το trailer εδώ.\nΠληροφορίες (στα γαλλικά): Ο Καραγκιοζοπαίκτης της Νιόν \nΑναλυτικό προγραμμα :\n16:30 – Ανοιγμα αίθουσας\n17:05 – Καλωσόρισμα από το σύλλογο “Ακτή”\n17:15 – Προβολή του ντοκιμαντέρ « Ο Καραγκιοζοπαίκτης της Νιόν »\n18:30 – Συζήτηση με τον πρωταγωνιστή και την σκηνοθέτιδα\n19:00 – Απεριτίφ \n20:30 – Τέλος εκδήλωσης
URL:https://akti.ch/event/provoli-ntokimanter-quot-o-karagkiozopaiktis-tis-nion-quot
LOCATION:Théâtre de Marens\, Route du Stand 5\, Nyon\, Vaud\, 1260\, Switzerland
CATEGORIES:Εκδηλώσεις Ακτής
ATTACH;FMTTYPE=image/jpeg:https://akti.ch/wp-content/uploads/2023/08/karagkiozopaiktis_greek.jpg
ORGANIZER;CN="%CE%A3%CF%8D%CE%BB%CE%BB%CE%BF%CE%B3%CE%BF%CF%82 %CE%95%CE%BB%CE%BB%CE%AE%CE%BD%CF%89%CE%BD %CE%BA%CE%B1%CE%B9 %CE%A6%CE%B9%CE%BB%CE%B5%CE%BB%CE%BB%CE%AE%CE%BD%CF%89%CE%BD '%CE%97 %CE%91%CE%BA%CF%84%CE%AE'":MAILTO:info@akti.ch
END:VEVENT
BEGIN:VEVENT
DTSTART;TZID=Europe/Zurich:20231126T163000
DTEND;TZID=Europe/Zurich:20231126T183000
DTSTAMP:20260420T235537
CREATED:20230816T211808Z
LAST-MODIFIED:20230916T205119Z
UID:2106-1701016200-1701023400@akti.ch
SUMMARY:Μάθημα Παραδοσιακών Χορών
DESCRIPTION:Περισσότερες πληροφορίες: https://akti.ch/archives/860
URL:https://akti.ch/event/mathima-paradosiakon-choron-14
LOCATION:Maison de Quartier de la Redoute\, Chemin de la Redoute 12\, Nyon\, 1260\, Switzerland
CATEGORIES:Εκδηλώσεις Ακτής
ATTACH;FMTTYPE=image/png:https://akti.ch/wp-content/uploads/2022/01/danses-grecques-2.png
END:VEVENT
END:VCALENDAR