BEGIN:VCALENDAR
VERSION:2.0
PRODID:-//Akti - ECPv6.15.20//NONSGML v1.0//EN
CALSCALE:GREGORIAN
METHOD:PUBLISH
X-WR-CALNAME:Akti
X-ORIGINAL-URL:https://akti.ch
X-WR-CALDESC:Events for Akti
REFRESH-INTERVAL;VALUE=DURATION:PT1H
X-Robots-Tag:noindex
X-PUBLISHED-TTL:PT1H
BEGIN:VTIMEZONE
TZID:Europe/Zurich
BEGIN:DAYLIGHT
TZOFFSETFROM:+0100
TZOFFSETTO:+0200
TZNAME:CEST
DTSTART:20220327T010000
END:DAYLIGHT
BEGIN:STANDARD
TZOFFSETFROM:+0200
TZOFFSETTO:+0100
TZNAME:CET
DTSTART:20221030T010000
END:STANDARD
BEGIN:DAYLIGHT
TZOFFSETFROM:+0100
TZOFFSETTO:+0200
TZNAME:CEST
DTSTART:20230326T010000
END:DAYLIGHT
BEGIN:STANDARD
TZOFFSETFROM:+0200
TZOFFSETTO:+0100
TZNAME:CET
DTSTART:20231029T010000
END:STANDARD
BEGIN:DAYLIGHT
TZOFFSETFROM:+0100
TZOFFSETTO:+0200
TZNAME:CEST
DTSTART:20240331T010000
END:DAYLIGHT
BEGIN:STANDARD
TZOFFSETFROM:+0200
TZOFFSETTO:+0100
TZNAME:CET
DTSTART:20241027T010000
END:STANDARD
END:VTIMEZONE
BEGIN:VEVENT
DTSTART;TZID=Europe/Zurich:20231210T163000
DTEND;TZID=Europe/Zurich:20231210T183000
DTSTAMP:20260420T142224
CREATED:20230816T211849Z
LAST-MODIFIED:20230916T205104Z
UID:2108-1702225800-1702233000@akti.ch
SUMMARY:Μάθημα Παραδοσιακών Χορών
DESCRIPTION:Περισσότερες πληροφορίες: https://akti.ch/archives/860
URL:https://akti.ch/event/mathima-paradosiakon-choron-15
LOCATION:Maison de Quartier de la Redoute\, Chemin de la Redoute 12\, Nyon\, 1260\, Switzerland
CATEGORIES:Εκδηλώσεις Ακτής
ATTACH;FMTTYPE=image/png:https://akti.ch/wp-content/uploads/2022/01/danses-grecques-2.png
END:VEVENT
BEGIN:VEVENT
DTSTART;TZID=Europe/Zurich:20231217T110000
DTEND;TZID=Europe/Zurich:20231217T140000
DTSTAMP:20260420T142224
CREATED:20230819T134001Z
LAST-MODIFIED:20231121T091701Z
UID:2160-1702810800-1702821600@akti.ch
SUMMARY:Χριστουγεννιάτικη Γιορτή
DESCRIPTION:Σας προσκαλούμε με χαρά στη Χριστουγεννιάτικη γιορτή που θα πραγματοποιηθεί μαζί με τον Κύκλο Ελληνικών Σπουδών την Κυριακή 17 Δεκεμβρίου 2023 στο Théâtre de Marens.
URL:https://akti.ch/event/christoygenniatiki-giorti
LOCATION:Théâtre de Marens\, Route du Stand 5\, Nyon\, Vaud\, 1260\, Switzerland
CATEGORIES:Εκδηλώσεις Ακτής
ATTACH;FMTTYPE=image/jpeg:https://akti.ch/wp-content/uploads/2023/08/fete_de_Noel.jpg
ORGANIZER;CN="%CE%A3%CF%8D%CE%BB%CE%BB%CE%BF%CE%B3%CE%BF%CF%82 %CE%95%CE%BB%CE%BB%CE%AE%CE%BD%CF%89%CE%BD %CE%BA%CE%B1%CE%B9 %CE%A6%CE%B9%CE%BB%CE%B5%CE%BB%CE%BB%CE%AE%CE%BD%CF%89%CE%BD '%CE%97 %CE%91%CE%BA%CF%84%CE%AE'":MAILTO:info@akti.ch
END:VEVENT
END:VCALENDAR