BEGIN:VCALENDAR
VERSION:2.0
PRODID:-//Akti - ECPv6.15.20//NONSGML v1.0//EN
CALSCALE:GREGORIAN
METHOD:PUBLISH
X-WR-CALNAME:Akti
X-ORIGINAL-URL:https://akti.ch
X-WR-CALDESC:Events for Akti
REFRESH-INTERVAL;VALUE=DURATION:PT1H
X-Robots-Tag:noindex
X-PUBLISHED-TTL:PT1H
BEGIN:VTIMEZONE
TZID:Europe/Zurich
BEGIN:DAYLIGHT
TZOFFSETFROM:+0100
TZOFFSETTO:+0200
TZNAME:CEST
DTSTART:20230326T010000
END:DAYLIGHT
BEGIN:STANDARD
TZOFFSETFROM:+0200
TZOFFSETTO:+0100
TZNAME:CET
DTSTART:20231029T010000
END:STANDARD
BEGIN:DAYLIGHT
TZOFFSETFROM:+0100
TZOFFSETTO:+0200
TZNAME:CEST
DTSTART:20240331T010000
END:DAYLIGHT
BEGIN:STANDARD
TZOFFSETFROM:+0200
TZOFFSETTO:+0100
TZNAME:CET
DTSTART:20241027T010000
END:STANDARD
BEGIN:DAYLIGHT
TZOFFSETFROM:+0100
TZOFFSETTO:+0200
TZNAME:CEST
DTSTART:20250330T010000
END:DAYLIGHT
BEGIN:STANDARD
TZOFFSETFROM:+0200
TZOFFSETTO:+0100
TZNAME:CET
DTSTART:20251026T010000
END:STANDARD
END:VTIMEZONE
BEGIN:VEVENT
DTSTART;TZID=Europe/Zurich:20240113T183000
DTEND;TZID=Europe/Zurich:20240113T200000
DTSTAMP:20260420T144112
CREATED:20240110T210528Z
LAST-MODIFIED:20240110T210528Z
UID:2322-1705170600-1705176000@akti.ch
SUMMARY:Επίδειξη και Μάθημα Παραδοσιακών Χορών
DESCRIPTION:Στο πλαίσιο των εκδηλώσεων με την επωνυμία Temps Fort Grec που οργανώνει το Usine à Gaz στη Νυον\, ο συλλογός μας οργανώνει μια επίδειξη ακολουθούμενη από ένα μάθημα παραδοσιακών χορών. \nΗ συμμετοχή είναι δωρεάν\, αλλά οι ενδιαφερόμενοι παρακαλούνται να εγγραφούν εκ των προτέρων ακολουθώντας τον παρακάτω σύνδεσμο (θα τηρηθεί σειρά προτεραιτότητας λόγω περιορισμένου αριθμού θέσεων).
URL:https://akti.ch/event/epideixi-kai-mathima-paradosiakon-choron
LOCATION:Usine à Gaz\, Rue César Soulié 1\, Nyon\, Vaud\, 1260\, Switzerland
CATEGORIES:Εκδηλώσεις Ακτής
ATTACH;FMTTYPE=image/png:https://akti.ch/wp-content/uploads/2022/01/danses-grecques-2.png
ORGANIZER;CN="%CE%A3%CF%8D%CE%BB%CE%BB%CE%BF%CE%B3%CE%BF%CF%82 %CE%95%CE%BB%CE%BB%CE%AE%CE%BD%CF%89%CE%BD %CE%BA%CE%B1%CE%B9 %CE%A6%CE%B9%CE%BB%CE%B5%CE%BB%CE%BB%CE%AE%CE%BD%CF%89%CE%BD '%CE%97 %CE%91%CE%BA%CF%84%CE%AE'":MAILTO:info@akti.ch
END:VEVENT
END:VCALENDAR