BEGIN:VCALENDAR
VERSION:2.0
PRODID:-//Akti - ECPv6.15.20//NONSGML v1.0//EN
CALSCALE:GREGORIAN
METHOD:PUBLISH
X-WR-CALNAME:Akti
X-ORIGINAL-URL:https://akti.ch/fr
X-WR-CALDESC:Évènements pour Akti
REFRESH-INTERVAL;VALUE=DURATION:PT1H
X-Robots-Tag:noindex
X-PUBLISHED-TTL:PT1H
BEGIN:VTIMEZONE
TZID:Europe/Zurich
BEGIN:DAYLIGHT
TZOFFSETFROM:+0100
TZOFFSETTO:+0200
TZNAME:CEST
DTSTART:20220327T010000
END:DAYLIGHT
BEGIN:STANDARD
TZOFFSETFROM:+0200
TZOFFSETTO:+0100
TZNAME:CET
DTSTART:20221030T010000
END:STANDARD
BEGIN:DAYLIGHT
TZOFFSETFROM:+0100
TZOFFSETTO:+0200
TZNAME:CEST
DTSTART:20230326T010000
END:DAYLIGHT
BEGIN:STANDARD
TZOFFSETFROM:+0200
TZOFFSETTO:+0100
TZNAME:CET
DTSTART:20231029T010000
END:STANDARD
BEGIN:DAYLIGHT
TZOFFSETFROM:+0100
TZOFFSETTO:+0200
TZNAME:CEST
DTSTART:20240331T010000
END:DAYLIGHT
BEGIN:STANDARD
TZOFFSETFROM:+0200
TZOFFSETTO:+0100
TZNAME:CET
DTSTART:20241027T010000
END:STANDARD
END:VTIMEZONE
BEGIN:VEVENT
DTSTART;TZID=Europe/Zurich:20230402T160000
DTEND;TZID=Europe/Zurich:20230402T190000
DTSTAMP:20260425T163351
CREATED:20220904T074805Z
LAST-MODIFIED:20230330T115238Z
UID:1634-1680451200-1680462000@akti.ch
SUMMARY:Et nous\, ici\, plus heureux encore...
DESCRIPTION:Spectacle tout public et concert de musique grecque \nÀ travers deux contes\, la musique grecque fait entendre ses mélodies et ses cadences : cordes pincées\, sonorités orientales\, rythmes entraînants… C’est la lumière de la Grèce que l’on voit et que l’on entend ! \n15h00 – Ouverture billetterie et buvette \nACHATS DE BILLETS  – billets sur place selon places disponibles (paiements Twint ou cash uniquement). \nDes mezzes et des vins grecs seront disponibles à la buvette avant et après le spectacle et le concert. \n16h00 – Spectacle de contes grecs « Et nous ici\, plus heureux encore » (en français)\nLa compagnie « Un nuage en pantalon » vous propose un voyage en Grèce\, plein de couleurs\, de mélodies et de rythmes venus de là-bas. Un spectacle théâtral et musical\, pour les enfants\, leurs parents et leurs grands-parents. \nDescription spectacle contes \n17h30 – Concert de musique grecque\nConcert de musique grecque (laϊko et rébétika) par le groupe « O Sakaflias » où les spectateurs pourront danser. \n19h00 – Fin de la manifestation \nACHATS DE BILLETS
URL:https://akti.ch/fr/event/et-nous-ici-plus-heureux-encore
LOCATION:Salle Communale de Nyon\, Rue des Marchandises 4\, Nyon\, Vaud\, 1260\, Switzerland
CATEGORIES:Evénements d'Akti
ORGANIZER;CN="Association d'Hell%C3%A8nes et de Philhell%C3%A8nes Akti":MAILTO:info@akti.ch
END:VEVENT
BEGIN:VEVENT
DTSTART;TZID=Europe/Zurich:20230430T180000
DTEND;TZID=Europe/Zurich:20230430T193000
DTSTAMP:20260425T163351
CREATED:20230114T213229Z
LAST-MODIFIED:20230114T214336Z
UID:1810-1682877600-1682883000@akti.ch
SUMMARY:Cours de Danses Grecques
DESCRIPTION:Plus d’informations: https://akti.ch/fr/archives/868
URL:https://akti.ch/fr/event/mathimata-paradosiakon-choron-8
LOCATION:Maison de Quartier de la Redoute\, Chemin de la Redoute 12\, Nyon\, 1260\, Switzerland
CATEGORIES:Evénements d'Akti
ATTACH;FMTTYPE=image/png:https://akti.ch/wp-content/uploads/2022/01/danses-grecques-2.png
END:VEVENT
END:VCALENDAR