BEGIN:VCALENDAR
VERSION:2.0
PRODID:-//Akti - ECPv6.15.20//NONSGML v1.0//EN
CALSCALE:GREGORIAN
METHOD:PUBLISH
X-WR-CALNAME:Akti
X-ORIGINAL-URL:https://akti.ch/fr
X-WR-CALDESC:Évènements pour Akti
REFRESH-INTERVAL;VALUE=DURATION:PT1H
X-Robots-Tag:noindex
X-PUBLISHED-TTL:PT1H
BEGIN:VTIMEZONE
TZID:Europe/Zurich
BEGIN:DAYLIGHT
TZOFFSETFROM:+0100
TZOFFSETTO:+0200
TZNAME:CEST
DTSTART:20220327T010000
END:DAYLIGHT
BEGIN:STANDARD
TZOFFSETFROM:+0200
TZOFFSETTO:+0100
TZNAME:CET
DTSTART:20221030T010000
END:STANDARD
BEGIN:DAYLIGHT
TZOFFSETFROM:+0100
TZOFFSETTO:+0200
TZNAME:CEST
DTSTART:20230326T010000
END:DAYLIGHT
BEGIN:STANDARD
TZOFFSETFROM:+0200
TZOFFSETTO:+0100
TZNAME:CET
DTSTART:20231029T010000
END:STANDARD
BEGIN:DAYLIGHT
TZOFFSETFROM:+0100
TZOFFSETTO:+0200
TZNAME:CEST
DTSTART:20240331T010000
END:DAYLIGHT
BEGIN:STANDARD
TZOFFSETFROM:+0200
TZOFFSETTO:+0100
TZNAME:CET
DTSTART:20241027T010000
END:STANDARD
END:VTIMEZONE
BEGIN:VEVENT
DTSTART;TZID=Europe/Zurich:20230903T110000
DTEND;TZID=Europe/Zurich:20230903T170000
DTSTAMP:20260421T034835
CREATED:20230819T122626Z
LAST-MODIFIED:20230819T123308Z
UID:2134-1693738800-1693760400@akti.ch
SUMMARY:Pique-nique Canadien à la Plage de Rolle
DESCRIPTION:Nous avons le plaisir de vous inviter à un pique-nique canadien à la plage de Rolle le dimanche 3 septembre 2023 à partir de 11h00.
URL:https://akti.ch/fr/event/pik-nik-stin-paralia-tis-rolle
LOCATION:Plage de Rolle\, Chem. de la Plage 4\, Rolle\, Vaud\, 1180\, Switzerland
CATEGORIES:Evénements d'Akti
ATTACH;FMTTYPE=image/jpeg:https://akti.ch/wp-content/uploads/2024/09/pique-nique-2024.jpg
ORGANIZER;CN="Association d'Hell%C3%A8nes et de Philhell%C3%A8nes Akti":MAILTO:info@akti.ch
END:VEVENT
END:VCALENDAR